<?xml version="1.0" encoding="UTF-8"?>
<TileMap version="1.0.0" tilemapservice="http://aplicaciones.ric.gob.gt/geoserver/gwc/service/tms/1.0.0">
  <Title>V_SHP_RED_GEODESICA</Title>
  <Abstract/>
  <SRS>EPSG:900913</SRS>
  <BoundingBox minx="-2.003750834E7" miny="0.0" maxx="0.0" maxy="2.003750834E7"/>
  <Origin x="-2.003750834E7" y="0.0"/>
  <TileFormat width="256" height="256" mime-type="image/png" extension="png"/>
  <TileSets profile="local">
    <TileSet href="http://aplicaciones.ric.gob.gt/geoserver/gwc/service/tms/1.0.0/RIC%3AV_SHP_RED_GEODESICA@EPSG%3A900913@png/0" units-per-pixel="156543.03390625" order="0"/>
    <TileSet href="http://aplicaciones.ric.gob.gt/geoserver/gwc/service/tms/1.0.0/RIC%3AV_SHP_RED_GEODESICA@EPSG%3A900913@png/1" units-per-pixel="78271.516953125" order="1"/>
    <TileSet href="http://aplicaciones.ric.gob.gt/geoserver/gwc/service/tms/1.0.0/RIC%3AV_SHP_RED_GEODESICA@EPSG%3A900913@png/2" units-per-pixel="39135.7584765625" order="2"/>
    <TileSet href="http://aplicaciones.ric.gob.gt/geoserver/gwc/service/tms/1.0.0/RIC%3AV_SHP_RED_GEODESICA@EPSG%3A900913@png/3" units-per-pixel="19567.87923828125" order="3"/>
    <TileSet href="http://aplicaciones.ric.gob.gt/geoserver/gwc/service/tms/1.0.0/RIC%3AV_SHP_RED_GEODESICA@EPSG%3A900913@png/4" units-per-pixel="9783.939619140625" order="4"/>
    <TileSet href="http://aplicaciones.ric.gob.gt/geoserver/gwc/service/tms/1.0.0/RIC%3AV_SHP_RED_GEODESICA@EPSG%3A900913@png/5" units-per-pixel="4891.9698095703125" order="5"/>
    <TileSet href="http://aplicaciones.ric.gob.gt/geoserver/gwc/service/tms/1.0.0/RIC%3AV_SHP_RED_GEODESICA@EPSG%3A900913@png/6" units-per-pixel="2445.9849047851562" order="6"/>
    <TileSet href="http://aplicaciones.ric.gob.gt/geoserver/gwc/service/tms/1.0.0/RIC%3AV_SHP_RED_GEODESICA@EPSG%3A900913@png/7" units-per-pixel="1222.9924523925781" order="7"/>
    <TileSet href="http://aplicaciones.ric.gob.gt/geoserver/gwc/service/tms/1.0.0/RIC%3AV_SHP_RED_GEODESICA@EPSG%3A900913@png/8" units-per-pixel="611.4962261962891" order="8"/>
    <TileSet href="http://aplicaciones.ric.gob.gt/geoserver/gwc/service/tms/1.0.0/RIC%3AV_SHP_RED_GEODESICA@EPSG%3A900913@png/9" units-per-pixel="305.74811309814453" order="9"/>
    <TileSet href="http://aplicaciones.ric.gob.gt/geoserver/gwc/service/tms/1.0.0/RIC%3AV_SHP_RED_GEODESICA@EPSG%3A900913@png/10" units-per-pixel="152.87405654907226" order="10"/>
    <TileSet href="http://aplicaciones.ric.gob.gt/geoserver/gwc/service/tms/1.0.0/RIC%3AV_SHP_RED_GEODESICA@EPSG%3A900913@png/11" units-per-pixel="76.43702827453613" order="11"/>
    <TileSet href="http://aplicaciones.ric.gob.gt/geoserver/gwc/service/tms/1.0.0/RIC%3AV_SHP_RED_GEODESICA@EPSG%3A900913@png/12" units-per-pixel="38.218514137268066" order="12"/>
    <TileSet href="http://aplicaciones.ric.gob.gt/geoserver/gwc/service/tms/1.0.0/RIC%3AV_SHP_RED_GEODESICA@EPSG%3A900913@png/13" units-per-pixel="19.109257068634033" order="13"/>
    <TileSet href="http://aplicaciones.ric.gob.gt/geoserver/gwc/service/tms/1.0.0/RIC%3AV_SHP_RED_GEODESICA@EPSG%3A900913@png/14" units-per-pixel="9.554628534317017" order="14"/>
    <TileSet href="http://aplicaciones.ric.gob.gt/geoserver/gwc/service/tms/1.0.0/RIC%3AV_SHP_RED_GEODESICA@EPSG%3A900913@png/15" units-per-pixel="4.777314267158508" order="15"/>
    <TileSet href="http://aplicaciones.ric.gob.gt/geoserver/gwc/service/tms/1.0.0/RIC%3AV_SHP_RED_GEODESICA@EPSG%3A900913@png/16" units-per-pixel="2.388657133579254" order="16"/>
    <TileSet href="http://aplicaciones.ric.gob.gt/geoserver/gwc/service/tms/1.0.0/RIC%3AV_SHP_RED_GEODESICA@EPSG%3A900913@png/17" units-per-pixel="1.194328566789627" order="17"/>
    <TileSet href="http://aplicaciones.ric.gob.gt/geoserver/gwc/service/tms/1.0.0/RIC%3AV_SHP_RED_GEODESICA@EPSG%3A900913@png/18" units-per-pixel="0.5971642833948135" order="18"/>
    <TileSet href="http://aplicaciones.ric.gob.gt/geoserver/gwc/service/tms/1.0.0/RIC%3AV_SHP_RED_GEODESICA@EPSG%3A900913@png/19" units-per-pixel="0.29858214169740677" order="19"/>
    <TileSet href="http://aplicaciones.ric.gob.gt/geoserver/gwc/service/tms/1.0.0/RIC%3AV_SHP_RED_GEODESICA@EPSG%3A900913@png/20" units-per-pixel="0.14929107084870338" order="20"/>
    <TileSet href="http://aplicaciones.ric.gob.gt/geoserver/gwc/service/tms/1.0.0/RIC%3AV_SHP_RED_GEODESICA@EPSG%3A900913@png/21" units-per-pixel="0.07464553542435169" order="21"/>
    <TileSet href="http://aplicaciones.ric.gob.gt/geoserver/gwc/service/tms/1.0.0/RIC%3AV_SHP_RED_GEODESICA@EPSG%3A900913@png/22" units-per-pixel="0.037322767712175846" order="22"/>
    <TileSet href="http://aplicaciones.ric.gob.gt/geoserver/gwc/service/tms/1.0.0/RIC%3AV_SHP_RED_GEODESICA@EPSG%3A900913@png/23" units-per-pixel="0.018661383856087923" order="23"/>
    <TileSet href="http://aplicaciones.ric.gob.gt/geoserver/gwc/service/tms/1.0.0/RIC%3AV_SHP_RED_GEODESICA@EPSG%3A900913@png/24" units-per-pixel="0.009330691928043961" order="24"/>
    <TileSet href="http://aplicaciones.ric.gob.gt/geoserver/gwc/service/tms/1.0.0/RIC%3AV_SHP_RED_GEODESICA@EPSG%3A900913@png/25" units-per-pixel="0.004665345964021981" order="25"/>
    <TileSet href="http://aplicaciones.ric.gob.gt/geoserver/gwc/service/tms/1.0.0/RIC%3AV_SHP_RED_GEODESICA@EPSG%3A900913@png/26" units-per-pixel="0.0023326729820109904" order="26"/>
    <TileSet href="http://aplicaciones.ric.gob.gt/geoserver/gwc/service/tms/1.0.0/RIC%3AV_SHP_RED_GEODESICA@EPSG%3A900913@png/27" units-per-pixel="0.0011663364910054952" order="27"/>
    <TileSet href="http://aplicaciones.ric.gob.gt/geoserver/gwc/service/tms/1.0.0/RIC%3AV_SHP_RED_GEODESICA@EPSG%3A900913@png/28" units-per-pixel="5.831682455027476E-4" order="28"/>
    <TileSet href="http://aplicaciones.ric.gob.gt/geoserver/gwc/service/tms/1.0.0/RIC%3AV_SHP_RED_GEODESICA@EPSG%3A900913@png/29" units-per-pixel="2.915841227513738E-4" order="29"/>
    <TileSet href="http://aplicaciones.ric.gob.gt/geoserver/gwc/service/tms/1.0.0/RIC%3AV_SHP_RED_GEODESICA@EPSG%3A900913@png/30" units-per-pixel="1.457920613756869E-4" order="30"/>
  </TileSets>
</TileMap>